BEGIN:VCALENDAR
VERSION:2.0
PRODID:-//wp-events-plugin.com//7.2.3.1//EN
TZID:America/New_York
X-WR-TIMEZONE:America/New_York
BEGIN:VEVENT
UID:51309@proactivesafetyservices.com
DTSTART;TZID=America/New_York:20260821T160000
DTEND;TZID=America/New_York:20260821T200000
DTSTAMP:20260330T232721Z
URL:https://proactivesafetyservices.com/classes/columbus-epa-rrp-refresher
 -confirmed-course-08-21-2026/
SUMMARY:Columbus EPA RRP Refresher - CONFIRMED COURSE
DESCRIPTION:Columbus EPA RRP Refresher Certification offered every month! I
 f you extended your certification online last time\, this time must be in 
 person! Also\, your certification has to be valid in order to renew. If yo
 ur certification is expired\, you will need to take the 4-hour refresher c
 ourse. Contact us today by dialing 877-209-9648 or email sales@pasafety.co
 m.
ATTACH;FMTTYPE=image/jpeg:https://proactivesafetyservices.com/wp-content/u
 ploads/2024/10/qtq80-vIq41d.jpeg
CATEGORIES:Lead Renovator Refresher
LOCATION:Columbus Training Location\, 3928 Jackpot Road\, Grove City\, Ohio
 \, 43123\, United States
GEO:39.881498;-83.045088
X-APPLE-STRUCTURED-LOCATION;VALUE=URI;X-ADDRESS=3928 Jackpot Road\, Grove C
 ity\, Ohio\, 43123\, United States;X-APPLE-RADIUS=100;X-TITLE=Columbus Tra
 ining Location:geo:39.881498,-83.045088
END:VEVENT
BEGIN:VTIMEZONE
TZID:America/New_York
X-LIC-LOCATION:America/New_York
BEGIN:DAYLIGHT
DTSTART:20260308T030000
TZOFFSETFROM:-0500
TZOFFSETTO:-0400
TZNAME:EDT
END:DAYLIGHT
END:VTIMEZONE
END:VCALENDAR