BEGIN:VCALENDAR
VERSION:2.0
PRODID:-//wp-events-plugin.com//7.2.3.1//EN
TZID:America/New_York
X-WR-TIMEZONE:America/New_York
BEGIN:VEVENT
UID:50901@proactivesafetyservices.com
DTSTART;TZID=America/New_York:20260603T160000
DTEND;TZID=America/New_York:20260603T200000
DTSTAMP:20260310T152232Z
URL:https://proactivesafetyservices.com/classes/mount-laurel-epa-rrp-refre
 sher-certification-confirmed-course-06-03-2026/
SUMMARY:Mount Laurel EPA RRP Refresher Certification - CONFIRMED COURSE
DESCRIPTION:Mount Laurel EPA RRP Refresher Certification offered every mont
 h! If you extended your certification online last time\, this time must be
  in person! Also\, your certification has to be valid in order to renew. I
 f your certification is expired\, you will need to take the 8-hour initial
  course. Contact us today by dialing 877-209-9648 or email sales@pasafety.
 com.
ATTACH;FMTTYPE=image/jpeg:https://proactivesafetyservices.com/wp-content/u
 ploads/2024/09/qtq80-rfyah3.jpeg
CATEGORIES:Lead Renovator Refresher
LOCATION:Mount Laurel Training Location\, 121 Laurel Oak Road\, Mount Laure
 l Township\, New Jersey\, 08043\, United States
GEO:39.846054;-74.987866
X-APPLE-STRUCTURED-LOCATION;VALUE=URI;X-ADDRESS=121 Laurel Oak Road\, Mount
  Laurel Township\, New Jersey\, 08043\, United States;X-APPLE-RADIUS=100;X
 -TITLE=Mount Laurel Training Location:geo:39.846054,-74.987866
END:VEVENT
BEGIN:VTIMEZONE
TZID:America/New_York
X-LIC-LOCATION:America/New_York
BEGIN:DAYLIGHT
DTSTART:20260308T030000
TZOFFSETFROM:-0500
TZOFFSETTO:-0400
TZNAME:EDT
END:DAYLIGHT
END:VTIMEZONE
END:VCALENDAR