BEGIN:VCALENDAR
VERSION:2.0
PRODID:-//wp-events-plugin.com//7.2.3.1//EN
TZID:America/New_York
X-WR-TIMEZONE:America/New_York
BEGIN:VEVENT
UID:50834@proactivesafetyservices.com
DTSTART;TZID=America/New_York:20260508T080000
DTEND;TZID=America/New_York:20260508T160000
DTSTAMP:20260309T020553Z
URL:https://proactivesafetyservices.com/classes/south-bend-epa-rrp-initial
 -certification-lead-renovator-training-south-bend-in-confirmed-course-5-8-
 2026/
SUMMARY:South Bend EPA RRP Initial Certification – Lead Renovator Trainin
 g - South Bend\, IN - CONFIRMED COURSE
DESCRIPTION:EPA RRP Initial Certification is required for any contractor wo
 rking in houses built prior to 1978. This program should be taken seriousl
 y and not be delegated. Fines can be as high as $37\,500 per violation and
  can include criminal penalties. So\, what do you need to do to get into c
 ompliance? That is simple. Get at least one of your workers trained as a c
 ertified renovator. Once that is complete\, register your firm with the EP
 A. After that you should be good to go.\nWe offer EPA RRP Lead Renovator C
 ertification courses in over 30 states\, we are an approved training provi
 der through the EPA. Also\, we hold state certifications in Georgia\, Kans
 as\, Ohio\, Oklahoma\, and North Carolina. We will travel to your location
 \, or use our training facility in Cincinnati\, OH. For more details pleas
 e dial 877-209-9648 or email sales@pasafety.com.   
ATTACH;FMTTYPE=image/jpeg:https://proactivesafetyservices.com/wp-content/u
 ploads/2025/10/South-Bend-EPA-RRP-Initial-Certification.jpg
CATEGORIES:Lead Renovator Training
LOCATION:South Bend Training Location\, 52890 State Highway 933\, South Ben
 d\, Indiana\, 46637\, United States
GEO:41.724776;-86.248556
X-APPLE-STRUCTURED-LOCATION;VALUE=URI;X-ADDRESS=52890 State Highway 933\, S
 outh Bend\, Indiana\, 46637\, United States;X-APPLE-RADIUS=100;X-TITLE=Sou
 th Bend Training Location:geo:41.724776,-86.248556
END:VEVENT
BEGIN:VTIMEZONE
TZID:America/New_York
X-LIC-LOCATION:America/New_York
BEGIN:DAYLIGHT
DTSTART:20260308T030000
TZOFFSETFROM:-0500
TZOFFSETTO:-0400
TZNAME:EDT
END:DAYLIGHT
END:VTIMEZONE
END:VCALENDAR